BEGIN:VCALENDAR
VERSION:2.0
PRODID:-//Centro Consorzi Belluno//NONSGML v1.0//EN
METHOD:PUBLISH
BEGIN:VEVENT
UID:20261119T073000Z-3838-Centro Consorzi Belluno
DTSTAMP:20260419T130119Z
ORGANIZER;CN=Centro Consorzi Belluno:MAILTO:consorziobl@myfad.it
LOCATION:Sedico (BL)
DTSTART:20261119T073000Z
DTEND:20261120T153000Z
SUMMARY:GRU MOBILE (14 ore)
DESCRIPTION;ENCODING=QUOTED-PRINTABLE:GRU MOBILE (14 ore)=0D=0A19 novembre 2026 | orario 08.30 - 12.30 - pausa - 13.30 - 16.30 (Teoria + Verifica intermedia)
20 novembre 2026 | orario 08.30 - 12.30 - pausa - 13.30 - 16.30 (Addestramento + Esame finale) 
BEGIN:VALARM
TRIGGER:-P2D
REPEAT:1
ACTION:DISPLAY
END:VALARM
END:VEVENT
END:VCALENDAR
