BEGIN:VCALENDAR
VERSION:2.0
PRODID:-//Centro Consorzi Belluno//NONSGML v1.0//EN
METHOD:PUBLISH
BEGIN:VEVENT
UID:20260427T060000Z-4062-Centro Consorzi Belluno
DTSTAMP:20260422T012649Z
ORGANIZER;CN=Centro Consorzi Belluno:MAILTO:consorziobl@myfad.it
LOCATION:SETTEVILLE (BL)
DTSTART:20260427T060000Z
DTEND:20260427T130000Z
SUMMARY:Formazione lavoratori Modulo Aggiornamento Lavoratori (6h)
DESCRIPTION;ENCODING=QUOTED-PRINTABLE:Formazione lavoratori Modulo Aggiornamento Lavoratori (6h)=0D=0AMarted&igrave; 09 dicembre 2025 orario 13.30-17.30
Gioved&igrave; 10 dicembre 2025 orario 08.30-12.30
Gioved&igrave; 10 dicembre 2025 orario 13.30-17.30 
BEGIN:VALARM
TRIGGER:-P2D
REPEAT:1
ACTION:DISPLAY
END:VALARM
END:VEVENT
END:VCALENDAR
